BEGIN:VCALENDAR
VERSION:2.0
PRODID:-//JAG Nevada - ECPv6.13.2.1//NONSGML v1.0//EN
CALSCALE:GREGORIAN
METHOD:PUBLISH
X-ORIGINAL-URL:https://j4ng.org
X-WR-CALDESC:Events for JAG Nevada
REFRESH-INTERVAL;VALUE=DURATION:PT1H
X-Robots-Tag:noindex
X-PUBLISHED-TTL:PT1H
BEGIN:VTIMEZONE
TZID:UTC
BEGIN:STANDARD
TZOFFSETFROM:+0000
TZOFFSETTO:+0000
TZNAME:UTC
DTSTART:20250101T000000
END:STANDARD
END:VTIMEZONE
BEGIN:VEVENT
DTSTART;TZID=UTC:20250414T080000
DTEND;TZID=UTC:20250414T143000
DTSTAMP:20260421T024146
CREATED:20241024T202142Z
LAST-MODIFIED:20250305T190002Z
UID:6789-1744617600-1744641000@j4ng.org
SUMMARY:JAG Nevada Career Development Conference
DESCRIPTION:Thank you to our CDC Sponsors! \nChairman Level Sponsors \n   \nExecutive Level Sponsor \n \nDirector Level Sponsors \n   \nJoin us to celebrate JAG Nevada’s 11th annual Career Development Conference!  This event brings youth together from every JAG program statewide to compete\, network and learn. \nAttendees take part in workshops\, participate in employability skills competitions and network with organizations at the College and Career Fair.  The event allows youth to practice the skills that they have learned through the JAG program and gain insights to help them move forward to a positive future. \nCommunity member involvement is key to providing an impactful event – please consider sponsoring or volunteering (click on information below)! \nWhen: Monday\, April 14\, 2025 8am – 2:30pm \nWhere: Aliante Hotel – Conference Center   7300 N Aliante Pkwy    North Las Vegas \nWould your organization like to sponsor this event?  Sponsorship Information \nWould you like to volunteer as a judge for one of our competitions? Volunteer Form \nWould you like to attend the event?  Contact Us at info@jagnevada.org
URL:https://j4ng.org/event/jag-nevada-career-development-conference-3/
LOCATION:Aliante Hotel – Conference Center  7300 N Aliante Pkwy  North Las Vegas\, NV  89084
CATEGORIES:Event
ATTACH;FMTTYPE=image/jpeg:https://j4ng.org/wp-content/uploads/2023/12/Valley-HS-Overall-Winner.jpg
END:VEVENT
BEGIN:VEVENT
DTSTART;TZID=UTC:20250424T130000
DTEND;TZID=UTC:20250424T143000
DTSTAMP:20260421T024146
CREATED:20250417T171728Z
LAST-MODIFIED:20250417T172202Z
UID:7228-1745499600-1745505000@j4ng.org
SUMMARY:Human Resource Committee Meeting
DESCRIPTION:Date/Time:  Thursday\, April 24\, 2025\, 1:00 – 2:30 PM \nTitle of Event:  Human Resource Committee Meeting \nPreview:  HR Committee April 24.2025
URL:https://j4ng.org/event/human-resource-committee-meeting-3/
END:VEVENT
BEGIN:VEVENT
DTSTART;TZID=UTC:20250429T110000
DTEND;TZID=UTC:20250429T123000
DTSTAMP:20260421T024146
CREATED:20250417T193512Z
LAST-MODIFIED:20250417T193512Z
UID:7261-1745924400-1745929800@j4ng.org
SUMMARY:Development\, Communications & Outreach (DC&O) Committee Meeting
DESCRIPTION:Date/Time:  Tuesday\, April 29\, 2025\, 11:00 AM – 12:30 PM \nPlace:  Microsoft TEAMS virtual meeting \nTitle of Event:  Development\, Communications & Outreach (DC&O) Committee Meeting \nPreview: DC&O Committee Agenda April 29\, 2025
URL:https://j4ng.org/event/development-communications-outreach-dco-committee-meeting/
END:VEVENT
END:VCALENDAR