BEGIN:VCALENDAR
VERSION:2.0
PRODID:-//JAG Nevada - ECPv6.13.2.1//NONSGML v1.0//EN
CALSCALE:GREGORIAN
METHOD:PUBLISH
X-WR-CALNAME:JAG Nevada
X-ORIGINAL-URL:https://j4ng.org
X-WR-CALDESC:Events for JAG Nevada
REFRESH-INTERVAL;VALUE=DURATION:PT1H
X-Robots-Tag:noindex
X-PUBLISHED-TTL:PT1H
BEGIN:VTIMEZONE
TZID:UTC
BEGIN:STANDARD
TZOFFSETFROM:+0000
TZOFFSETTO:+0000
TZNAME:UTC
DTSTART:20210101T000000
END:STANDARD
END:VTIMEZONE
BEGIN:VEVENT
DTSTART;TZID=UTC:20210430T100000
DTEND;TZID=UTC:20210430T110000
DTSTAMP:20260421T190227
CREATED:20210422T205614Z
LAST-MODIFIED:20210422T210207Z
UID:4745-1619776800-1619780400@j4ng.org
SUMMARY:J4NG Human Resource Committee Meeting
DESCRIPTION:Date: Friday\, April 30\, 2021 \nTime:  10:00 AM \nPlace:  via TEAMS \nPlease direct any questions or comments to Jean Irvine at jirvine@j4ng.org or 725-235-3670 \nAgenda:  Human Resource Committee Meeting Agenda
URL:https://j4ng.org/event/j4ng-human-resource-committee-meeting/
CATEGORIES:Event
END:VEVENT
BEGIN:VEVENT
DTSTART;TZID=UTC:20210428T140000
DTEND;TZID=UTC:20210428T150000
DTSTAMP:20260421T190227
CREATED:20210420T220643Z
LAST-MODIFIED:20210420T220643Z
UID:4743-1619618400-1619622000@j4ng.org
SUMMARY:J4NG Budget and Finance Committee Meeting
DESCRIPTION:  \nDate: Wednesday\, April 28\, 2021 \nTime:  2:00 PM \nPlace:  via TEAMS \nPlease direct any questions or comments to Jean Irvine at jirvine@j4ng.org or 725-235-3670 \nAgenda: Nominating & Bylaws Committee Meeting 4-26-21
URL:https://j4ng.org/event/j4ng-budget-and-finance-committee-meeting/
END:VEVENT
BEGIN:VEVENT
DTSTART;TZID=UTC:20210426T140000
DTEND;TZID=UTC:20210426T150000
DTSTAMP:20260421T190227
CREATED:20210420T165538Z
LAST-MODIFIED:20210420T170354Z
UID:4737-1619445600-1619449200@j4ng.org
SUMMARY:J4NG Nominating & Bylaws Committee Meeting
DESCRIPTION:Date: Monday\, April 26\, 2021 \nTime:  2:00 PM \nPlace:  via TEAMS \nPlease direct any questions or comments to Jean Irvine at jirvine@j4ng.org or 725-235-3670 \nAgenda: Nominating & Bylaws Committee Meeting 4-26-21
URL:https://j4ng.org/event/j4ng-nominating-bylaws-committee-meeting/
CATEGORIES:Event
END:VEVENT
BEGIN:VEVENT
DTSTART;TZID=UTC:20210422T100000
DTEND;TZID=UTC:20210422T110000
DTSTAMP:20260421T190227
CREATED:20210413T195137Z
LAST-MODIFIED:20210413T195244Z
UID:4717-1619085600-1619089200@j4ng.org
SUMMARY:J4NG Development\, Communications & Outreach (DC&O) Committee Meeting
DESCRIPTION:Date:  Thursday\, April 22\, 2021 \nTime:  10:00 AM \nPlace:  via TEAMS \nPlease direct any questions or comments to Jean Irvine at jirvine@j4ng.org or 725-235-3670 \nAgenda: DC&O Committee Meeting 4-22-21
URL:https://j4ng.org/event/j4ng-development-communications-outreach-dco-committee-meeting/
CATEGORIES:Event
END:VEVENT
BEGIN:VEVENT
DTSTART;TZID=UTC:20210420T100000
DTEND;TZID=UTC:20210420T110000
DTSTAMP:20260421T190227
CREATED:20210413T194710Z
LAST-MODIFIED:20210413T195329Z
UID:4715-1618912800-1618916400@j4ng.org
SUMMARY:J4NG Strategic Planning Committee Meeting
DESCRIPTION:Date:  Tuesday\, April 20\, 2021 \nTime:  10:00 AM \nPlace:  via TEAMS \nPlease direct any questions or comments to Jean Irvine at jirvine@j4ng.org or 725-235-3670 \n  \nAgenda:  Strategic Planning Committee Meeting  4-20-21
URL:https://j4ng.org/event/j4ng-strategic-planning-committee-meeting/
CATEGORIES:Event
END:VEVENT
BEGIN:VEVENT
DTSTART;TZID=UTC:20210320T100000
DTEND;TZID=UTC:20210320T120000
DTSTAMP:20260421T190227
CREATED:20210311T173921Z
LAST-MODIFIED:20210311T184245Z
UID:4679-1616234400-1616241600@j4ng.org
SUMMARY:J4NG Backpacks of Hope Teen Care Pop Up Event
DESCRIPTION:Backpacks will be distributed to youth in need prior to CCSD Spring Break.  This is a drive-up and walk-up event. \nWhen:  Saturday\, March 20th \nTime:  10am – Noon (or while supplies last) \nWhere:  Ty’s Place parking lot     205 Centennial Pkwy    N. Las Vegas\, NV  89084 \nJ4NG Backpacks of Hope Teen Care Pop Up \n 
URL:https://j4ng.org/event/j4ng-backpacks-of-hope-teen-care-pop-up-event/
LOCATION:Ty’s Place\, 205 Centennial Pkwy\, N Las Vegas\, NV\, 89084\, United States
END:VEVENT
BEGIN:VEVENT
DTSTART;TZID=UTC:20210115T090000
DTEND;TZID=UTC:20210115T103000
DTSTAMP:20260421T190227
CREATED:20210111T223612Z
LAST-MODIFIED:20210112T152600Z
UID:4434-1610701200-1610706600@j4ng.org
SUMMARY:J4NG Board Meeting
DESCRIPTION:Date:  Friday\, January 15\, 2021 \nTime:  9 am \nPlace: Via Zoom Link \nPlease contact Jean Irvine at jirvine@j4ng.org or by phone at 702-410-8078 with any questions. \nAgenda BOD January 15 2021
URL:https://j4ng.org/event/board-meeting/
CATEGORIES:Event
END:VEVENT
END:VCALENDAR