BEGIN:VCALENDAR
VERSION:2.0
PRODID:-//JAG Nevada - ECPv6.13.2.1//NONSGML v1.0//EN
CALSCALE:GREGORIAN
METHOD:PUBLISH
X-WR-CALNAME:JAG Nevada
X-ORIGINAL-URL:https://j4ng.org
X-WR-CALDESC:Events for JAG Nevada
REFRESH-INTERVAL;VALUE=DURATION:PT1H
X-Robots-Tag:noindex
X-PUBLISHED-TTL:PT1H
BEGIN:VTIMEZONE
TZID:UTC
BEGIN:STANDARD
TZOFFSETFROM:+0000
TZOFFSETTO:+0000
TZNAME:UTC
DTSTART:20210101T000000
END:STANDARD
END:VTIMEZONE
BEGIN:VEVENT
DTSTART;TZID=UTC:20230328T100000
DTEND;TZID=UTC:20230328T110000
DTSTAMP:20260421T043702
CREATED:20230327T154058Z
LAST-MODIFIED:20230327T154058Z
UID:5451-1679997600-1680001200@j4ng.org
SUMMARY:Strategic Planning Committee Meeting
DESCRIPTION:Date:  Tuesday\, March 28\, 2023\, 10:00 a.m. – 11:00 a.m. \nWhat:  Strategic Planning Committee Meeting \nAttachment:  https://j4ng.org/wp-content/uploads/2023/03/Strategic-Planning-Comm.-Agenda-3.28.23.pdf
URL:https://j4ng.org/event/strategic-planning-committee-meeting/
END:VEVENT
BEGIN:VEVENT
DTSTART;TZID=UTC:20230227T080000
DTEND;TZID=UTC:20230227T130000
DTSTAMP:20260421T043702
CREATED:20230106T175608Z
LAST-MODIFIED:20230126T190104Z
UID:5415-1677484800-1677502800@j4ng.org
SUMMARY:J4NG Career Development Conference
DESCRIPTION:Thank you to our CDC Sponsors!\nChairman Level\n \n\n \n\nExecutive Level\n \n \n\nDirector Level\n         \nJ4NG’s 9th annual Career Development Conference is being held in person this year!  This event brings youth together from every J4NG program statewide to compete\, network and learn. \nAttendees take part in workshops\, participate in employability skills competitions and network with organizations at the College and Career Fair.  The event allows youth to practice the skills that they have learned through the J4NG program and gain insights to help them move forward to a positive future. \nCommunity member involvement is key to providing an impactful event – please consider sponsoring or volunteering (click on information below)! \nWhen: Monday\, February 27\, 2023  8am – 1pm \nWhere: Aliante Hotel – Conference Center   7300 N Aliante Pkwy    North Las Vegas \nWould your organization like to sponsor this event?  Sponsorship Information \nWould you like to volunteer as a judge for one of our competitions? Volunteer Form \nWould you like to attend the event?  Contact Us at info@j4ng.org
URL:https://j4ng.org/event/j4ng-2023-career-development-conference/
LOCATION:Aliante Hotel – Conference Center  7300 N Aliante Pkwy  North Las Vegas\, NV  89084
CATEGORIES:Event
ATTACH;FMTTYPE=image/jpeg:https://j4ng.org/wp-content/uploads/2020/06/LT0A1664-scaled.jpg
END:VEVENT
BEGIN:VEVENT
DTSTART;TZID=UTC:20230104T140000
DTEND;TZID=UTC:20230104T150000
DTSTAMP:20260421T043702
CREATED:20230103T182139Z
LAST-MODIFIED:20230103T182243Z
UID:5408-1672840800-1672844400@j4ng.org
SUMMARY:Budget & Finance Committee Meeting
DESCRIPTION:Date:  Wednesday\, January 4\, 2023\, 2:00 p.m. – 3:00 p.m. \nWhat:  Budget & Finance Committee Meeting \nAttachment:
URL:https://j4ng.org/event/budget-finance-committee-meeting-5/
END:VEVENT
BEGIN:VEVENT
DTSTART;TZID=UTC:20221219T100000
DTEND;TZID=UTC:20221219T110000
DTSTAMP:20260421T043702
CREATED:20221212T191956Z
LAST-MODIFIED:20221212T191956Z
UID:5397-1671444000-1671447600@j4ng.org
SUMMARY:DC&O Committee Meeting
DESCRIPTION:Date:  Monday\, December 19\, 2022\, 10:00 a.m. – 11:00 a.m. \nWhat:  Development\, Communications & Outreach Committee Meeting \nAttachment:  https://j4ng.org/?post_type=tribe_events&p=5397&preview=true
URL:https://j4ng.org/event/dco-committee-meeting-2/
END:VEVENT
BEGIN:VEVENT
DTSTART;TZID=UTC:20221117T140000
DTEND;TZID=UTC:20221117T153000
DTSTAMP:20260421T043702
CREATED:20221117T020049Z
LAST-MODIFIED:20221117T170628Z
UID:5387-1668693600-1668699000@j4ng.org
SUMMARY:Board of Directors Meeting
DESCRIPTION:Date:  Thursday\, November 17\, 2022\, 2:00 p.m. – 3:30 p.m. \nWhat:  J4NG Board of Directors Meeting \nAttachment:”C:\Users\JIrvine\Jobs for Nevada’s Graduates\, Inc\ManagementTeam – General\BOARD OF DIRECTORS\BOARD OF DIRECTORS Meetings\Agendas\Agendas 2022\Agenda BOD November 17\, 2022.pdf”
URL:https://j4ng.org/event/board-of-directors-meeting-3/
END:VEVENT
BEGIN:VEVENT
DTSTART;TZID=UTC:20221108T140000
DTEND;TZID=UTC:20221108T153000
DTSTAMP:20260421T043702
CREATED:20221103T165550Z
LAST-MODIFIED:20221103T165550Z
UID:5378-1667916000-1667921400@j4ng.org
SUMMARY:Executive Committee Meeting
DESCRIPTION:Date:  Tuesday\, November 8\, 2022\, 2:00 p.m. – 3:30 p.m. \nWhat:  Executive Committee Meeting \nAttachment:  Agenda Executive Comm. Nov. 8\, 2022
URL:https://j4ng.org/event/executive-committee-meeting-6/
END:VEVENT
BEGIN:VEVENT
DTSTART;TZID=UTC:20221027T140000
DTEND;TZID=UTC:20221027T150000
DTSTAMP:20260421T043702
CREATED:20221024T182311Z
LAST-MODIFIED:20221024T182324Z
UID:5371-1666879200-1666882800@j4ng.org
SUMMARY:Human Resources Committee Meeteing
DESCRIPTION:Date:  Thursday\, October 27\, 2022\, 2:00 p.m. – 3:00 p.m. \nWhat:  Human Resources Committee Meeting \nAttachment:  https://j4ng.org/event/human-resources-committee-meeteing/
URL:https://j4ng.org/event/human-resources-committee-meeteing/
END:VEVENT
BEGIN:VEVENT
DTSTART;TZID=UTC:20221026T140000
DTEND;TZID=UTC:20221026T150000
DTSTAMP:20260421T043702
CREATED:20221024T180535Z
LAST-MODIFIED:20221024T180535Z
UID:5364-1666792800-1666796400@j4ng.org
SUMMARY:Budget & Finance Committee Meeting
DESCRIPTION:Date:  Wednesday\, October 26\, 2022\, 2:00 p.m. – 3:00 p.m. \nWhat:  Budget & Fiance Committee Meeting \nAttachment:  https://j4ng.org/?post_type=tribe_events&p=5364&preview=true
URL:https://j4ng.org/event/budget-finance-committee-meeting-4/
END:VEVENT
BEGIN:VEVENT
DTSTART;TZID=UTC:20221019T160000
DTEND;TZID=UTC:20221019T170000
DTSTAMP:20260421T043702
CREATED:20221014T170247Z
LAST-MODIFIED:20221014T170349Z
UID:5352-1666195200-1666198800@j4ng.org
SUMMARY:Executive Committee Meeting
DESCRIPTION:Date:  Wednesday\, October 19\, 2022\, 4:00 p.m. – 5:00 p.m. \nWhat:  Executive Committee Meeting \nAttachment:  : https://j4ng.org/event/executive-committee-meeting-5/ ‎
URL:https://j4ng.org/event/executive-committee-meeting-5/
END:VEVENT
BEGIN:VEVENT
DTSTART;TZID=UTC:20220929T083000
DTEND;TZID=UTC:20220929T150000
DTSTAMP:20260421T043702
CREATED:20220922T165351Z
LAST-MODIFIED:20220922T165507Z
UID:5328-1664440200-1664463600@j4ng.org
SUMMARY:Board of Directors Retreat
DESCRIPTION:Date:  Thursday\, September 29\, 2022\, 8:30 a.m. – 3:00 p.m. \nWhat:  Board of Directors Retreat \nAttachment:  https://j4ng.org/event/board-of-directors-retreat/
URL:https://j4ng.org/event/board-of-directors-retreat/
END:VEVENT
BEGIN:VEVENT
DTSTART;TZID=UTC:20220818T100000
DTEND;TZID=UTC:20220818T113000
DTSTAMP:20260421T043702
CREATED:20220815T165106Z
LAST-MODIFIED:20220815T194848Z
UID:5286-1660816800-1660822200@j4ng.org
SUMMARY:Board of Directors Meeting
DESCRIPTION:Date:  Thursday\, August 18\, 2022\, 10:00 AM – 11:30 AM \nWhat:  Board of Directors Meeting \nAttachment:    https://j4ng.org/wp-content/uploads/2022/08/Agenda-BOD-Revised-August-18-2022-.pdf
URL:https://j4ng.org/event/board-of-directors-meeting-2/
END:VEVENT
BEGIN:VEVENT
DTSTART;TZID=UTC:20220809T140000
DTEND;TZID=UTC:20220809T153000
DTSTAMP:20260421T043702
CREATED:20220803T200142Z
LAST-MODIFIED:20220803T200350Z
UID:5277-1660053600-1660059000@j4ng.org
SUMMARY:Executive Committee Meeting
DESCRIPTION:Date:  Tuesday\, August 9\, 2022\, 2:00 p.m. – 3:30 p.m. \nWhat:  Executive Committee Meeting \nAttachment:  https://j4ng.org/event/executive-committee-meeting-4/
URL:https://j4ng.org/event/executive-committee-meeting-4/
END:VEVENT
BEGIN:VEVENT
DTSTART;TZID=UTC:20220802T110000
DTEND;TZID=UTC:20220802T123000
DTSTAMP:20260421T043702
CREATED:20220726T174659Z
LAST-MODIFIED:20220726T174659Z
UID:5269-1659438000-1659443400@j4ng.org
SUMMARY:J4NG D C & O Committee Meeting
DESCRIPTION:Date:  Tuesday\, August 2\, 2022\, 11:00 a.m. – 12:30 p.m. \nWhat:  D C & O (Development\, Communication & Outreach) Committee Meeting \nAttachment:
URL:https://j4ng.org/event/j4ng-d-c-o-committee-meeting/
END:VEVENT
BEGIN:VEVENT
DTSTART;TZID=UTC:20220727T140000
DTEND;TZID=UTC:20220727T153000
DTSTAMP:20260421T043702
CREATED:20220726T173437Z
LAST-MODIFIED:20220726T173437Z
UID:5262-1658930400-1658935800@j4ng.org
SUMMARY:J4NG Budget & Finance Committee Meeting
DESCRIPTION:Date:  Wednesday\, July 27\, 2:00 p.m. – 3:30 p.m. \nWhat:  Budget & Finance Committee Meeting \nAttachment:  Agenda Budget & Finance July 27\, 2022
URL:https://j4ng.org/event/j4ng-budget-finance-committee-meeting/
END:VEVENT
BEGIN:VEVENT
DTSTART;TZID=UTC:20220721T140000
DTEND;TZID=UTC:20220721T153000
DTSTAMP:20260421T043702
CREATED:20220714T200957Z
LAST-MODIFIED:20220718T200616Z
UID:5252-1658412000-1658417400@j4ng.org
SUMMARY:J4NG Nominating & Bylaws Committee Meeting
DESCRIPTION:Date:  Thursday\, July 21\, 2022\, 2:00 p.m. – 3:30 p.m. \nWhat:  Nominating & Bylaws Committee Meeting \nAttachment: Nom & Bylaws REVISED Agenda 07.21.22
URL:https://j4ng.org/event/j4ng-nominating-bylaws-committee-meeting-2/
END:VEVENT
BEGIN:VEVENT
DTSTART;TZID=UTC:20220720T100000
DTEND;TZID=UTC:20220720T113000
DTSTAMP:20260421T043702
CREATED:20220713T193635Z
LAST-MODIFIED:20220713T193635Z
UID:5247-1658311200-1658316600@j4ng.org
SUMMARY:J4NG Strategic Planning Committee Meeting
DESCRIPTION:Date:  Wednesday\, July 20\, 2022\, 10:00 a.m. – 11:30 a.m. \nWhat:  J4NG Strategic Planning Meeting \nAttachment:  Strategic Planning Committee Agenda 7-20-2022
URL:https://j4ng.org/event/j4ng-strategic-planning-committee-meeting-2/
END:VEVENT
BEGIN:VEVENT
DTSTART;TZID=UTC:20220719T140000
DTEND;TZID=UTC:20220719T153000
DTSTAMP:20260421T043702
CREATED:20220713T192230Z
LAST-MODIFIED:20220713T192230Z
UID:5241-1658239200-1658244600@j4ng.org
SUMMARY:J4NG Human Resources Committee Meeting
DESCRIPTION:Date:  Tuesday\, July 19\, 2022\, 2:00 p.m. – 3:00 p.m. \nWhat:  J4NG Human Resources Committee Meeting \nAttachment:   HR Committee Agenda 07-19-22
URL:https://j4ng.org/event/j4ng-human-resources-committee-meeting-2/
END:VEVENT
BEGIN:VEVENT
DTSTART;TZID=UTC:20220524T140000
DTEND;TZID=UTC:20220524T150000
DTSTAMP:20260421T043702
CREATED:20220518T165652Z
LAST-MODIFIED:20220518T165715Z
UID:5213-1653400800-1653404400@j4ng.org
SUMMARY:J4NG Human Resources Committee Meeting
DESCRIPTION:Date:  Tuesday\, May 24\, 2022\, 2:00 p.m. – 3:00 p.m. \nWhat:  J4NG Human Resources Committee Meeting \nAttachment:  https://j4ng.org/wp-content/uploads/2022/05/HR-Committee-Amended-Agenda-05-24-22.pm.
URL:https://j4ng.org/event/j4ng-human-resources-committee-meeting/
END:VEVENT
BEGIN:VEVENT
DTSTART;TZID=UTC:20220415T140000
DTEND;TZID=UTC:20220415T153000
DTSTAMP:20260421T043702
CREATED:20220407T171428Z
LAST-MODIFIED:20220413T164414Z
UID:5169-1650031200-1650036600@j4ng.org
SUMMARY:Executive Committee Meeting
DESCRIPTION:Date: Friday\, April 15\, 2022\, 2:00 p.m. – 3:30 p.m. \nWhat:  Executive Committee Meeting \nAttachment:  https://j4ng.org/?post_type=tribe_events&p=5169&preview=true
URL:https://j4ng.org/event/executive-committee-meeting-3/
END:VEVENT
BEGIN:VEVENT
DTSTART;TZID=UTC:20220407T140000
DTEND;TZID=UTC:20220407T150000
DTSTAMP:20260421T043702
CREATED:20220404T163750Z
LAST-MODIFIED:20220404T163750Z
UID:5159-1649340000-1649343600@j4ng.org
SUMMARY:Noninating & Bylaws Committee Meeting
DESCRIPTION:Date:  Thursday\, April 7\, 2022\, 2:00 p.m. – 3:00p.m. \nWhat:  Nominating & Bylaws Committee Agenda \nAttachment:    https://j4ng.org/wp-content/uploads/2022/04/Nom-Bylaws-Agenda-4.7.22.pdf
URL:https://j4ng.org/event/noninating-bylaws-committee-meeting/
END:VEVENT
BEGIN:VEVENT
DTSTART;TZID=UTC:20220405T140000
DTEND;TZID=UTC:20220405T150000
DTSTAMP:20260421T043702
CREATED:20220404T161139Z
LAST-MODIFIED:20220404T161139Z
UID:5154-1649167200-1649170800@j4ng.org
SUMMARY:Human Resource Committee Meeting
DESCRIPTION:Date:  Tuesday\, April 5\, 2022\, 2:00 p.m. – 3:00 p.m. \nWhat:  Human Resource Committee Meeting/Agenda \nAttachment:  https://j4ng.org/wp-content/uploads/2022/04/HR-Committee-Agenda-04-05-22.pdf \n 
URL:https://j4ng.org/event/human-resource-committee-meeting/
END:VEVENT
BEGIN:VEVENT
DTSTART;TZID=UTC:20220331T080000
DTEND;TZID=UTC:20220331T130000
DTSTAMP:20260421T043702
CREATED:20211202T183938Z
LAST-MODIFIED:20220307T230057Z
UID:4976-1648713600-1648731600@j4ng.org
SUMMARY:J4NG Career Development Conference
DESCRIPTION:Thank you to our CDC Sponsors!\nChairman Level\n \nDirector Level\n       \nWorkshop Sponsor\n \nJ4NG’s annual Career Development Conference is being held virtually this Spring!  This event brings youth together from every J4NG program statewide to compete\, network and learn. \nAttendees take part in workshops\, participate in employability skills competitions and network with organizations at the College and Career Fair.  This allows youth to practice the skills that they have learned through the J4NG program and gain insights to help them move forward to a positive future. \nCommunity member involvement is key to providing an impactful event – please consider sponsoring or volunteering (click on information below)! \nWhen: Thursday\, March 31\, 2022 from 8am – 1pm \nWhere: Virtual platform \nWould your organization like to sponsor this event?  Sponsorship Information \nWould you like to volunteer as a judge for one of our competitions? Volunteer Form \nWould you like to attend the event?  Contact Us at contact@j4ng.org \n 
URL:https://j4ng.org/event/j4ng-career-development-conference/
LOCATION:Virtual
CATEGORIES:Event
ATTACH;FMTTYPE=image/jpeg:https://j4ng.org/wp-content/uploads/2020/06/LT0A1664-scaled.jpg
END:VEVENT
BEGIN:VEVENT
DTSTART;TZID=UTC:20220330T140000
DTEND;TZID=UTC:20220330T150000
DTSTAMP:20260421T043702
CREATED:20220324T182831Z
LAST-MODIFIED:20220324T182831Z
UID:5138-1648648800-1648652400@j4ng.org
SUMMARY:Budget & Finance Committee Meeting
DESCRIPTION:Date:  Wednesday\, March 30\, 2022\, 2:00 p.m. – 3:00 p.m. \nWhat:  Budget & Finance Committee Meeting (Agenda) \nAttachment:   https://j4ng.org/event/budget-finance-committee-meeting-3.30.22
URL:https://j4ng.org/event/budget-finance-committee-meeting-3/
END:VEVENT
BEGIN:VEVENT
DTSTART;TZID=UTC:20220224T140000
DTEND;TZID=UTC:20220224T153000
DTSTAMP:20260421T043702
CREATED:20220218T164930Z
LAST-MODIFIED:20220218T164930Z
UID:5110-1645711200-1645716600@j4ng.org
SUMMARY:Board of Directors Meeting
DESCRIPTION:Date:  Thursday\, February 24\, 2022\, 2:00 p.m. \nWhat:  Board of Directors Meeting \nAttachment:  Agenda BOD February 24\, 2022 revised format
URL:https://j4ng.org/event/board-of-directors-meeting/
END:VEVENT
BEGIN:VEVENT
DTSTART;TZID=UTC:20220215T140000
DTEND;TZID=UTC:20220215T153000
DTSTAMP:20260421T043702
CREATED:20220209T200331Z
LAST-MODIFIED:20220209T201722Z
UID:5091-1644933600-1644939000@j4ng.org
SUMMARY:Executive Committee Meeting
DESCRIPTION:Date: Tuesday\, February 15\, 2022\, 2:00 – 3:30 p.m. \nWhat:  Executive Committee Meeting \nAttachment:  Agenda Executive Comm. Feb. 15. 2022 revised format
URL:https://j4ng.org/event/executive-committee-meeting-2/
END:VEVENT
BEGIN:VEVENT
DTSTART;TZID=UTC:20220210T140000
DTEND;TZID=UTC:20220210T150000
DTSTAMP:20260421T043702
CREATED:20220203T202544Z
LAST-MODIFIED:20220209T200101Z
UID:5050-1644501600-1644505200@j4ng.org
SUMMARY:Nominating & Bylaws Committee Meeting
DESCRIPTION:Date: Thursday\, February 10\, 2022 – 2:00 to 3:00 p.m. \nWhat:  Nominating & Bylaws Committee Meeting \nAttachment:  Nom & Bylaws Agenda REVISED 2.10. 2022    Nom & Bylaws Agenda 2.10. 2022
URL:https://j4ng.org/event/nominating-bylaws-committee-meeting/
END:VEVENT
BEGIN:VEVENT
DTSTART;TZID=UTC:20220202T140000
DTEND;TZID=UTC:20220202T150000
DTSTAMP:20260421T043702
CREATED:20220201T193207Z
LAST-MODIFIED:20220201T194424Z
UID:5044-1643810400-1643814000@j4ng.org
SUMMARY:Budget & Finance Committee Meeting
DESCRIPTION:Date: Wednesday\, February 2\, 2022 – 2:00 to 3:00 p.m. \nWhat:  Budget & Finance Committee Meeting \nAttachment:  Agenda
URL:https://j4ng.org/event/budget-finance-committee-meeting-2/
END:VEVENT
BEGIN:VEVENT
DTSTART;TZID=UTC:20220201T080000
DTEND;TZID=UTC:20220201T170000
DTSTAMP:20260421T043702
CREATED:20220201T192201Z
LAST-MODIFIED:20220201T192953Z
UID:5034-1643702400-1643734800@j4ng.org
SUMMARY:Human Resource Committee Agenda
DESCRIPTION:Date:  Tuesday\, February 1\, 2022 – 2:00 – 3:00 p.m. \nWhat:  Human Resource Committee Meeting Agenda \nAttachment:
URL:https://j4ng.org/event/human-resource-committee-agenda/
END:VEVENT
BEGIN:VEVENT
DTSTART;TZID=UTC:20211118T140000
DTEND;TZID=UTC:20211118T153000
DTSTAMP:20260421T043702
CREATED:20211115T180924Z
LAST-MODIFIED:20211115T181242Z
UID:4956-1637244000-1637249400@j4ng.org
SUMMARY:Board of Directors Meeeting
DESCRIPTION:Date:  Thursday\, November 18\, 2021 \nTime:  2:00 PM \nPlace:  via TEAMS \nPlease direct any questions or comments to Jean Irvine at jirvine@j4ng.org or 725-235-3670 \nAgenda:  https://j4ng.org/wp-content/uploads/2021/11/Agenda-BOD-November-18-2021.pdf
URL:https://j4ng.org/event/board-of-directors-meeeting/
END:VEVENT
BEGIN:VEVENT
DTSTART;TZID=UTC:20211022T080000
DTEND;TZID=UTC:20211022T170000
DTSTAMP:20260421T043702
CREATED:20211027T153552Z
LAST-MODIFIED:20211027T153552Z
UID:4923-1634889600-1634922000@j4ng.org
SUMMARY:D C & O Committee Meeting\, October 27\, 2021\, 2:00 p.m.
DESCRIPTION:Date:  Wednesday\, October 27\, 2021\, 2:00 – 3:00 p.m. \nWhat:  Development\, Communication & Outreach Committee Meeting  (DC&O) \nAttachment:  DCO Committee Agenda 10-27-2021 \n 
URL:https://j4ng.org/event/d-c-o-committee-meeting-october-27-2021-200-p-m/
END:VEVENT
END:VCALENDAR