BEGIN:VCALENDAR
VERSION:2.0
PRODID:-//JAG Nevada - ECPv6.13.2.1//NONSGML v1.0//EN
CALSCALE:GREGORIAN
METHOD:PUBLISH
X-ORIGINAL-URL:https://j4ng.org
X-WR-CALDESC:Events for JAG Nevada
REFRESH-INTERVAL;VALUE=DURATION:PT1H
X-Robots-Tag:noindex
X-PUBLISHED-TTL:PT1H
BEGIN:VTIMEZONE
TZID:UTC
BEGIN:STANDARD
TZOFFSETFROM:+0000
TZOFFSETTO:+0000
TZNAME:UTC
DTSTART:20250101T000000
END:STANDARD
END:VTIMEZONE
BEGIN:VEVENT
DTSTART;TZID=UTC:20251008T130000
DTEND;TZID=UTC:20251008T140000
DTSTAMP:20260420T190906
CREATED:20251001T170039Z
LAST-MODIFIED:20251001T170039Z
UID:9289-1759928400-1759932000@j4ng.org
SUMMARY:Nominating & Bylaws Committee Meeting
DESCRIPTION:Date/Time:  Wednesday\, October 8\, 2025\, 1:00 PM \nPlace:  Microsoft TEAMS virtual meeting \nTitle of Event:  Nominating & Bylaws Committee Meeting \nAttachments: Nom & Bylaws Agenda 10.08.2025
URL:https://j4ng.org/event/nominating-bylaws-committee-meeting-6/
END:VEVENT
BEGIN:VEVENT
DTSTART;TZID=UTC:20251010T093000
DTEND;TZID=UTC:20251010T103000
DTSTAMP:20260420T190906
CREATED:20251006T201829Z
LAST-MODIFIED:20251006T201829Z
UID:9294-1760088600-1760092200@j4ng.org
SUMMARY:SPECIAL SESSION\, EXECUTIVE COMMITTEE
DESCRIPTION:Date/Time/Place:   Friday. October 10\, 2025\, 9:30 AM\, Virtual TEAMS meeting \nTitle of Event:  Special Session\, Executive Committee \nAttachment:  Agenda  https://j4ng.org/event/special-session-…cutive-committee/ \n 
URL:https://j4ng.org/event/special-session-executive-committee/
END:VEVENT
BEGIN:VEVENT
DTSTART;TZID=UTC:20251016T133000
DTEND;TZID=UTC:20251016T150000
DTSTAMP:20260420T190906
CREATED:20251009T153821Z
LAST-MODIFIED:20251009T153821Z
UID:9301-1760621400-1760626800@j4ng.org
SUMMARY:Nominating & Bylaws Committee Meeting
DESCRIPTION:Date/Day/Time:  Thursday\, October 16\, 2025\, 1:30 PM \nTitle:  Nominating & Bylaws Committee Meeting\, virtual TEAMS \nAgenda  Nominating & Bylaws Committee\2025\Agendas 2025\Nom & Bylaws Agenda 10.16.2025 NEW DATE.pdf”
URL:https://j4ng.org/event/nominating-bylaws-committee-meeting-7/
END:VEVENT
BEGIN:VEVENT
DTSTART;TZID=UTC:20251106T140000
DTEND;TZID=UTC:20251106T153000
DTSTAMP:20260420T190906
CREATED:20251030T181133Z
LAST-MODIFIED:20251106T200514Z
UID:9328-1762437600-1762443000@j4ng.org
SUMMARY:Human Resources Committee Meeting
DESCRIPTION:Date/Time/Place:  November 6\, 2025\, 2:00-3:30 PM\, Virtual TEAMS Meeting \nTitle of Event:  Human Resources Committee Meeting\nHR Committee November 6\, 2025   Agenda \n  \n 
URL:https://j4ng.org/event/human-resources-committee-meeting-5/
END:VEVENT
BEGIN:VEVENT
DTSTART;TZID=UTC:20251110T100000
DTEND;TZID=UTC:20251110T110000
DTSTAMP:20260420T190906
CREATED:20251104T211549Z
LAST-MODIFIED:20251104T211620Z
UID:9348-1762768800-1762772400@j4ng.org
SUMMARY:DC&O Committee Meeting
DESCRIPTION:Title of Event:  Development\, Communication & Outreach Committee Meeting \nDate/Time/Place:  November 10\, 2025 / 10:00 AM / Virtual Microsoft TEAMS meeting \n\nDC&O Committee Meeting
URL:https://j4ng.org/event/dco-committee-meeting-3/
END:VEVENT
BEGIN:VEVENT
DTSTART;TZID=UTC:20251113T140000
DTEND;TZID=UTC:20251113T150000
DTSTAMP:20260420T190906
CREATED:20251103T200310Z
LAST-MODIFIED:20251103T200310Z
UID:9343-1763042400-1763046000@j4ng.org
SUMMARY:Budget & Finance Committee Meeting
DESCRIPTION:Title of Event:  Budget & Finance Committee Meeting \nDate/Time/Place:  November 13\, 2025\, 2:00 PM\, Microsoft TEAMS virtual meeting. \nAgenda Budget & Finance 11.13.2025
URL:https://j4ng.org/event/budget-finance-committee-meeting-11/
END:VEVENT
BEGIN:VEVENT
DTSTART;TZID=UTC:20251203T080000
DTEND;TZID=UTC:20251203T153000
DTSTAMP:20260420T190906
CREATED:20251120T214920Z
LAST-MODIFIED:20251120T214920Z
UID:9357-1764748800-1764775800@j4ng.org
SUMMARY:JAG BOARD OF DIRECTORS RETREAT
DESCRIPTION:Title of Event:  Board of Directors Retreat \nDate/Time/Place:  December 3\, 2025\, 8:00 AM – 3:30 PM\, Betty’s Village\, 7755 W. Oquendo Rd.\, LV\, NV 89113 \n“C:\Users\JIrvine\J4NG OneDrive\Jobs for Nevada’s Graduates\, Inc\ManagementTeam – General\BOARD OF DIRECTORS\BOARD OF DIRECTORS Meetings\2025\Agendas\Agendas 2025\Agenda BOD Retreat December 3.2025.docx” \n 
URL:https://j4ng.org/event/jag-board-of-directors-retreat/
END:VEVENT
BEGIN:VEVENT
DTSTART;TZID=UTC:20260413T080000
DTEND;TZID=UTC:20260413T140000
DTSTAMP:20260420T190906
CREATED:20251009T161509Z
LAST-MODIFIED:20260226T163229Z
UID:9306-1776067200-1776088800@j4ng.org
SUMMARY:JAG Nevada 12th Annual Career Development Conference
DESCRIPTION:Thank you to our CDC Sponsors\nChairman Level Sponsors\n     \n\nExecutive Level Sponsors\n         \nDirector Level Sponsors\n   \n       \nDay of Event Sponsors\n    \nJoin us to celebrate JAG Nevada’s 12th annual Career Development Conference!  This event brings youth together from every JAG program statewide to compete\, network and learn. \nAttendees take part in workshops\, participate in employability skills competitions and network with organizations at the College and Career Fair.  The event allows youth to practice the skills that they have learned through the JAG program and gain insights to help them move forward to a positive future. \nCommunity member involvement is key to providing an impactful event – please consider sponsoring or volunteering (click on information below)! \nWhen: Monday\, April 13\, 2026 8am – 2:00pm \nWhere: Aliante Conference Center  7300 N Aliante Pkwy\, North Las Vegas \nWould your organization like to sponsor this event?  Sponsorship Information \nWould you like to volunteer as a judge for one of our competitions or a day of volunteer? Volunteer Form \nWould you like to attend the event?  Contact Us at info@jagnevada.org
URL:https://j4ng.org/event/jag-nevada-career-development-conference/
LOCATION:Aliante Hotel – Conference Center  7300 N Aliante Pkwy  North Las Vegas\, NV  89084
CATEGORIES:Event
ATTACH;FMTTYPE=image/jpeg:https://j4ng.org/wp-content/uploads/2025/10/Winner-Photo-2025-for-use-on-Volunteer-Form.jpg
END:VEVENT
END:VCALENDAR