BEGIN:VCALENDAR
VERSION:2.0
PRODID:-//JAG Nevada - ECPv6.13.2.1//NONSGML v1.0//EN
CALSCALE:GREGORIAN
METHOD:PUBLISH
X-WR-CALNAME:JAG Nevada
X-ORIGINAL-URL:https://j4ng.org
X-WR-CALDESC:Events for JAG Nevada
REFRESH-INTERVAL;VALUE=DURATION:PT1H
X-Robots-Tag:noindex
X-PUBLISHED-TTL:PT1H
BEGIN:VTIMEZONE
TZID:UTC
BEGIN:STANDARD
TZOFFSETFROM:+0000
TZOFFSETTO:+0000
TZNAME:UTC
DTSTART:20230101T000000
END:STANDARD
END:VTIMEZONE
BEGIN:VEVENT
DTSTART;TZID=UTC:20250212T140000
DTEND;TZID=UTC:20250212T150000
DTSTAMP:20260420T223004
CREATED:20250204T203929Z
LAST-MODIFIED:20250204T203929Z
UID:6945-1739368800-1739372400@j4ng.org
SUMMARY:D C & O C COMMITTEE MEETING  Development\, Communications\, & Outreach
DESCRIPTION:Date:  Wednesday\, February 12\, 2025 \nTime:  2:00 – 3:00 p.m. \nPlace:  Microsoft TEAMS Virtual Meeting \nTitle of Event:  Development\, Communications & Outreach Committee Meeting \nDC&O Committee Agenda February 12\, 2025
URL:https://j4ng.org/event/d-c-o-c-committee-meeting-development-communications-outreach/
END:VEVENT
BEGIN:VEVENT
DTSTART;TZID=UTC:20250211T010000
DTEND;TZID=UTC:20250211T143000
DTSTAMP:20260420T223004
CREATED:20250204T194711Z
LAST-MODIFIED:20250204T194711Z
UID:6940-1739235600-1739284200@j4ng.org
SUMMARY:GOVERNMENT AFFAIRS COMMITTEE MEETING
DESCRIPTION:Date:  Tuesday\, February 11\, 2025 \nTime:  1:00 p.m. \nPlace:  Microsoft TEAMS Virtual Meeting \nTitle of Event:  Government Affairs Committee Meeting \nGov’t Affairs Agenda – 02.11.2025 \n 
URL:https://j4ng.org/event/government-affairs-committee-meeting/
END:VEVENT
BEGIN:VEVENT
DTSTART;TZID=UTC:20250206T140000
DTEND;TZID=UTC:20250206T150000
DTSTAMP:20260420T223004
CREATED:20250204T193916Z
LAST-MODIFIED:20250204T193916Z
UID:6936-1738850400-1738854000@j4ng.org
SUMMARY:BUDGET & FINANCE COMMITTEE MEETING
DESCRIPTION:Date:  Thursday\, February 6\, 2025 \nPlace:  Microsoft TEAMS Virtual Meeting \nTitle:  Budget & Finance Committee Meeting \nAgenda Budget & Finance 2025
URL:https://j4ng.org/event/budget-finance-committee-meeting-8/
END:VEVENT
BEGIN:VEVENT
DTSTART;TZID=UTC:20250205T130000
DTEND;TZID=UTC:20250205T140000
DTSTAMP:20260420T223004
CREATED:20250124T181926Z
LAST-MODIFIED:20250124T181926Z
UID:6923-1738760400-1738764000@j4ng.org
SUMMARY:Nominating & Bylaws Committee Meeting
DESCRIPTION:Nom & Bylaws Agenda 2025 \nDate:  Wednesday\, February 5\, 2025 \nTime:  1:00 – 2:00 PM \nPlace:  Virtual Microsoft TEAMS format
URL:https://j4ng.org/event/nominating-bylaws-committee-meeting-5/
END:VEVENT
BEGIN:VEVENT
DTSTART;TZID=UTC:20250130T130000
DTEND;TZID=UTC:20250130T140000
DTSTAMP:20260420T223004
CREATED:20250124T180146Z
LAST-MODIFIED:20250124T180146Z
UID:6912-1738242000-1738245600@j4ng.org
SUMMARY:Human Resource Committee Meeting
DESCRIPTION:Date:  Thursday\, January 30\, 2025 \nTime:  1:00 – 2:00 PM \nPlace:  Microsoft TEAMS Virtual Meeting \nHR Committee January 30.2025
URL:https://j4ng.org/event/human-resource-committee-meeting-2/
END:VEVENT
BEGIN:VEVENT
DTSTART;TZID=UTC:20250121T130000
DTEND;TZID=UTC:20250121T143000
DTSTAMP:20260420T223004
CREATED:20250114T210325Z
LAST-MODIFIED:20250114T210325Z
UID:6868-1737464400-1737469800@j4ng.org
SUMMARY:Strategic Planning Committee Meeting
DESCRIPTION:Date:  Tuesday\, January 21\, 2025 \nTime:  1:00 – 2:30 PM \nPlace:  Microsoft TEAMS Meeting \nAgenda 01.21.2025
URL:https://j4ng.org/event/strategic-planning-committee-meeting-3/
END:VEVENT
BEGIN:VEVENT
DTSTART;TZID=UTC:20241114T140000
DTEND;TZID=UTC:20241114T153000
DTSTAMP:20260420T223004
CREATED:20241028T161628Z
LAST-MODIFIED:20241028T161628Z
UID:6796-1731592800-1731598200@j4ng.org
SUMMARY:BOARD OF DIRECTORS MEETING
DESCRIPTION:Date:  Thursday\, Thursday\, November 14\, 2024\, 2:00 – 3:30 PM \nPlace:  CSN Summerlin Campus\, Room 112\,\n333 Pavilion Center Drive\, Las Vegas\, NV \nTitle of Event:  In-Person\, Board of Directors Meeting – (virtual option available for out-of-town members.)
URL:https://j4ng.org/event/board-of-directors-meeting-6/
END:VEVENT
BEGIN:VEVENT
DTSTART;TZID=UTC:20241107T140000
DTEND;TZID=UTC:20241107T153000
DTSTAMP:20260420T223004
CREATED:20241028T160618Z
LAST-MODIFIED:20241028T160618Z
UID:6794-1730988000-1730993400@j4ng.org
SUMMARY:EXECUTIVE COMMITTEE MEETING
DESCRIPTION:Date:  Thursday\, November 7\, 2024\, 2:00 PM \nPlace:  Microsoft TEAMS virtual meeting \nEvent:  Executive Committee of the Board of Directors Meeting
URL:https://j4ng.org/event/executive-committee-meeting-10/
END:VEVENT
BEGIN:VEVENT
DTSTART;TZID=UTC:20241029T020000
DTEND;TZID=UTC:20241029T150000
DTSTAMP:20260420T223004
CREATED:20241022T175724Z
LAST-MODIFIED:20241028T160113Z
UID:6779-1730167200-1730214000@j4ng.org
SUMMARY:STRATEGIC PLANNING COMMITTEE MEETING  canceled
DESCRIPTION:Date:  Tuesday\, October 29\, 2024 \nTime:  2:00 PM PST \nPlace:  Microsoft TEAMS virtual meeting \nAgenda:  Agenda 10.29.2024
URL:https://j4ng.org/event/strategic-planning-committee-meeting-2/
CATEGORIES:Event
END:VEVENT
BEGIN:VEVENT
DTSTART;TZID=UTC:20241024T140000
DTEND;TZID=UTC:20241024T150000
DTSTAMP:20260420T223004
CREATED:20241007T191536Z
LAST-MODIFIED:20241007T191617Z
UID:6756-1729778400-1729782000@j4ng.org
SUMMARY:DC&O - Development\, Communications & Outreach Committee Meeting
DESCRIPTION:Date:  October 24\, 2024\, Thursday\, 2:00 – 3:00 PM Pacific time zone\nPlace:  Microsoft TEAMS virtual meeting\nEvent:  DC&O – Development\, Communications & Outreach Committee Meeting
URL:https://j4ng.org/event/dco-development-communications-outreach-committee-meeting/
END:VEVENT
BEGIN:VEVENT
DTSTART;TZID=UTC:20241023T100000
DTEND;TZID=UTC:20241023T113000
DTSTAMP:20260420T223004
CREATED:20241022T184828Z
LAST-MODIFIED:20241022T185108Z
UID:6784-1729677600-1729683000@j4ng.org
SUMMARY:HUMAN RESOURCES COMMITTEE MEETING
DESCRIPTION:HR Committee October 23\, 2024Date:  Wednesday\, October 23\, 2024 \nTime:  10:00 AM PST \nPlace:  Microsoft TEAMS Virtual Meeting
URL:https://j4ng.org/event/human-resources-committee-meeting-4/
END:VEVENT
BEGIN:VEVENT
DTSTART;TZID=UTC:20241023T100000
DTEND;TZID=UTC:20241023T110000
DTSTAMP:20260420T223004
CREATED:20241023T100046Z
LAST-MODIFIED:20241017T171918Z
UID:6763-1729677600-1729681200@j4ng.org
SUMMARY:HUMAN RESOURCES COMMITTEE MEETING
DESCRIPTION:Date/Time:  October 23\, 2024\, 10:00 AM – 11:00 AM\nPlace:  Virtual – TEAMS meeting
URL:https://j4ng.org/event/human-resources-committee-meeting-3/
END:VEVENT
BEGIN:VEVENT
DTSTART;TZID=UTC:20241022T130000
DTEND;TZID=UTC:20241022T140000
DTSTAMP:20260420T223004
CREATED:20241007T190856Z
LAST-MODIFIED:20241007T191007Z
UID:6750-1729602000-1729605600@j4ng.org
SUMMARY:Budget & Finance Committee Meeting
DESCRIPTION:Date:  October 22\, 2024\, Tuesday\, 1:00 PM Pacific time zone\nPlace:  Microsoft TEAMS meeting\nEvent:  Budget & Finance Committee Meeting
URL:https://j4ng.org/event/budget-finance-committee-meeting-7/
END:VEVENT
BEGIN:VEVENT
DTSTART;TZID=UTC:20241014T100000
DTEND;TZID=UTC:20241014T110000
DTSTAMP:20260420T223004
CREATED:20241007T190153Z
LAST-MODIFIED:20241007T190153Z
UID:6745-1728900000-1728903600@j4ng.org
SUMMARY:Nominating & Bylaws Committee Meeting
DESCRIPTION:Date:  October 14\, 2024\, 10:00 AM Pacific time zone\nPlace:  Microsoft TEAMS Virtual meeeting\nTitle of Event:  Nominating & Bylaws Committee Meeting
URL:https://j4ng.org/event/nominating-bylaws-committee-meeting-4/
END:VEVENT
BEGIN:VEVENT
DTSTART;TZID=UTC:20240613T140000
DTEND;TZID=UTC:20240613T150000
DTSTAMP:20260420T223004
CREATED:20240613T174712Z
LAST-MODIFIED:20240613T174712Z
UID:5985-1718287200-1718290800@j4ng.org
SUMMARY:Executive Committee\, Special Session
DESCRIPTION:Date:  Thursday\, June 13\, 2024\, 2:00 – 3:00 p.m.\nWhat:  Executive Committee Special Session\nAttachment:  https://j4ng.org/?post_type=tribe_events&p=5985&preview=true
URL:https://j4ng.org/event/executive-committee-special-session/
END:VEVENT
BEGIN:VEVENT
DTSTART;TZID=UTC:20240422T080000
DTEND;TZID=UTC:20240422T140000
DTSTAMP:20260420T223004
CREATED:20231201T170655Z
LAST-MODIFIED:20240319T220721Z
UID:5694-1713772800-1713794400@j4ng.org
SUMMARY:J4NG Career Development Conference
DESCRIPTION:Thank you to our CDC Sponsors!\nChairman Level Sponsors\n       \nDirector Level Sponsors\n           \n     \n  \nJoin us to celebrate J4NG’s 10th annual Career Development Conference!  This event brings youth together from every J4NG program statewide to compete\, network and learn. \nAttendees take part in workshops\, participate in employability skills competitions and network with organizations at the College and Career Fair.  The event allows youth to practice the skills that they have learned through the J4NG program and gain insights to help them move forward to a positive future. \nCommunity member involvement is key to providing an impactful event – please consider sponsoring or volunteering (click on information below)! \nWhen: Monday\, April 22\, 2024 8am – 2pm \nWhere: Aliante Hotel – Conference Center   7300 N Aliante Pkwy    North Las Vegas \nWould your organization like to sponsor this event?  Sponsorship Information \nWould you like to volunteer as a judge for one of our competitions? Volunteer Form \nWould you like to attend the event?  Contact Us at info@j4ng.org
URL:https://j4ng.org/event/j4ng-career-development-conference-2/
LOCATION:Aliante Hotel – Conference Center  7300 N Aliante Pkwy  North Las Vegas\, NV  89084
CATEGORIES:Event
ATTACH;FMTTYPE=image/jpeg:https://j4ng.org/wp-content/uploads/2023/12/Valley-HS-Overall-Winner.jpg
END:VEVENT
BEGIN:VEVENT
DTSTART;TZID=UTC:20240328T140000
DTEND;TZID=UTC:20240328T150000
DTSTAMP:20260420T223004
CREATED:20240328T154108Z
LAST-MODIFIED:20240328T154108Z
UID:5921-1711634400-1711638000@j4ng.org
SUMMARY:Executive Committee Meeting
DESCRIPTION:Date:  Thursday\, March 28\, 2024\, 2:00 p.m. – 3:00 p.m. \nWhat:  Executive Committee Meeting \nAttachment:    Agenda Executive Comm. March 28\, 2024
URL:https://j4ng.org/event/executive-committee-meeting-9/
END:VEVENT
BEGIN:VEVENT
DTSTART;TZID=UTC:20240314T140000
DTEND;TZID=UTC:20240314T150000
DTSTAMP:20260420T223004
CREATED:20240312T205711Z
LAST-MODIFIED:20240312T205728Z
UID:5876-1710424800-1710428400@j4ng.org
SUMMARY:Strategic Planning Committee - Agenda
DESCRIPTION:Date:  Thursday\, March 14\, 2024 – 2:00 p.m. – 3:00 p.m. \nWhat:  Strategic Planning Committee Meeting \nAttachment:  https://j4ng.org/event/strategic-planni…committee-agenda/ \n 
URL:https://j4ng.org/event/strategic-planning-committee-agenda/
END:VEVENT
BEGIN:VEVENT
DTSTART;TZID=UTC:20231005T110000
DTEND;TZID=UTC:20231005T114500
DTSTAMP:20260420T223004
CREATED:20230927T164417Z
LAST-MODIFIED:20230927T164417Z
UID:5642-1696503600-1696506300@j4ng.org
SUMMARY:Nominating & Bylaws Committee Meeting
DESCRIPTION:Date:  October 5\, 2023\, 11:00 a.m. – 11:45 a.m. \nWhat:  Nominating & Bylaws Committee Meeting \nAttachment:    https://jagnv.sharepoint.com/:b:/s/Management/ESElnI-InuZBrVLOcQGie9oBCNM1FNpcmbiww9YaPBp_xA?e=EPVd7R
URL:https://j4ng.org/event/nominating-bylaws-committee-meeting-3/
END:VEVENT
BEGIN:VEVENT
DTSTART;TZID=UTC:20230912T083000
DTEND;TZID=UTC:20230921T120000
DTSTAMP:20260420T223004
CREATED:20220907T151124Z
LAST-MODIFIED:20230911T185822Z
UID:5317-1694507400-1695297600@j4ng.org
SUMMARY:Help J4NG Chaparral youth collect socks and winter wear for homeless youth
DESCRIPTION:J4NG Chaparral is holding a Sock & Winter Wear drive as part of United Way’s annual Day of Caring. \nNow through Thursday\, Sept. 21st\, J4NG\, in partnership with Nevada Health Centers\, will be collecting donations\, which will then be donated to Nevada Partnership for Homeless Youth on Friday\, Sept. 22nd during the Day of Caring. \nWe want to make life easier for those struggling with homelessness.  We kindly ask for all sock and winter wear donations to be new or never worn items only.  Here are 3 ways to help:\n1)             Donate socks and winter wear! \nThe drive is being held between now and Thursday\, September 21st! \nDrop off locations if you would like to contribute items:\nNevada Health Centers Drop Off locations:\nHenderson Family Health Center – 98 E. Lake Mead Pkwy #103\nMartin Luther King Family Health – 1799 Mount Mariah Dr.\nNorth Las Vegas Family Health – 2225 Civic Center Dr.\nWIC Tropicana – 5486 Boulder Hwy Suite #102\n\n2)            CLICK HERE to purchase items from our Amazon Wishlist!\n  \n3)            CLICK HERE to donate online and we’ll do the shopping!
URL:https://j4ng.org/event/help-j4ng-chaparral-youth-collect-socks-and-gloves-for-homeless-youth-2/
ATTACH;FMTTYPE=image/jpeg:https://j4ng.org/wp-content/uploads/2023/09/Chap-J4NG-Donation-Efforts-scaled.jpg
END:VEVENT
BEGIN:VEVENT
DTSTART;TZID=UTC:20230817T140000
DTEND;TZID=UTC:20230817T153000
DTSTAMP:20260420T223004
CREATED:20230815T182350Z
LAST-MODIFIED:20230815T182350Z
UID:5591-1692280800-1692286200@j4ng.org
SUMMARY:BOARD OF DIRECTORS MEETING
DESCRIPTION:Date:  Thursday\, August 17\, 2023\, 2:00 – 3:30 p.m. \nWhat:  Board of Directors Meeting \nAttachment:  https://j4ng.org/?post_type=tribe_events&p=5591&preview=true
URL:https://j4ng.org/event/board-of-directors-meeting-5/
END:VEVENT
BEGIN:VEVENT
DTSTART;TZID=UTC:20230810T140000
DTEND;TZID=UTC:20230810T153000
DTSTAMP:20260420T223004
CREATED:20230810T165005Z
LAST-MODIFIED:20230810T165005Z
UID:5585-1691676000-1691681400@j4ng.org
SUMMARY:Executive Committee Meeting
DESCRIPTION:Date:  Thursday\, August 10\, 2023\, 2:00 p.m. – 3:00 p.m. \nWhat:  Executive Committee Meeting \nAttachment:https://jagnv.sharepoint.com/:b:/s/Management/EV4oeIPNjPVNsavC7ZVjoDUBb3GcynsHflRG7vZb3erQIQ?e=1MdNld
URL:https://j4ng.org/event/executive-committee-meeting-8/
END:VEVENT
BEGIN:VEVENT
DTSTART;TZID=UTC:20230725T140000
DTEND;TZID=UTC:20230725T150000
DTSTAMP:20260420T223004
CREATED:20230718T202339Z
LAST-MODIFIED:20230718T202339Z
UID:5571-1690293600-1690297200@j4ng.org
SUMMARY:Joint Committee Meeting - Human Resources & Strategic Planning
DESCRIPTION:Date:  Tuesday\, July 25\, 2023\, 2:00 p.m. – 3:00 p.m. \nWhat:  Joint Committee Meeting – Human Resources & Strategic Planning \nAttachment: : https://j4ng.org/event/joint-committee-…rategic-planning/
URL:https://j4ng.org/event/joint-committee-meeting-human-resources-strategic-planning/
END:VEVENT
BEGIN:VEVENT
DTSTART;TZID=UTC:20230605T153000
DTEND;TZID=UTC:20230605T163000
DTSTAMP:20260420T223004
CREATED:20230530T163822Z
LAST-MODIFIED:20230530T164139Z
UID:5537-1685979000-1685982600@j4ng.org
SUMMARY:Special Session\, Board of Directors Meeting
DESCRIPTION:Date:  Monday\, June 5\, 2023\, at 3:30 – 4:30 p.m. \nWhat:  Special Session\, Board of Directors Meeting \nAttachment:  https://j4ng.org/?post_type=tribe_events&p=5537&preview=true
URL:https://j4ng.org/event/special-session-board-of-directors-meeting/
END:VEVENT
BEGIN:VEVENT
DTSTART;TZID=UTC:20230525T160000
DTEND;TZID=UTC:20230525T170000
DTSTAMP:20260420T223004
CREATED:20230519T205005Z
LAST-MODIFIED:20230519T205005Z
UID:5527-1685030400-1685034000@j4ng.org
SUMMARY:Special Joint Committee Meeting
DESCRIPTION:Date:  Thursday\, May 25\, 2023\, 4:00 p.m. – 5:00 p.m. \nWhat:  Joint Committee Meeting – Human Resources and Budget & Finance \nAttachment:  http://”C:\Users\JIrvine\J4NG OneDrive\Jobs for Nevada’s Graduates\, Inc\ManagementTeam – General\BOARD OF DIRECTORS\BOARD COMMITTEES\Human Resources Committee\2023 HR Comm. Meetings\Agendas 2023\Special Joint Session – HR Comm. Bud Fin Comm. 5.25.23.pdf”
URL:https://j4ng.org/event/special-joint-committee-meeting/
END:VEVENT
BEGIN:VEVENT
DTSTART;TZID=UTC:20230420T140000
DTEND;TZID=UTC:20230420T153000
DTSTAMP:20260420T223004
CREATED:20230420T173122Z
LAST-MODIFIED:20230420T173208Z
UID:5512-1681999200-1682004600@j4ng.org
SUMMARY:Board of Directors Annual Meeting
DESCRIPTION:Date:  Thursday\, April 20\, 2023 \nWhat:  Board of Directors\, Annual Meeting \nAttachment:  Agenda BOD ANNUAL Mtg April 20\, 2023
URL:https://j4ng.org/event/board-of-directors-meeting-4/
END:VEVENT
BEGIN:VEVENT
DTSTART;TZID=UTC:20230413T140000
DTEND;TZID=UTC:20230413T153000
DTSTAMP:20260420T223004
CREATED:20230406T194055Z
LAST-MODIFIED:20230406T194055Z
UID:5504-1681394400-1681399800@j4ng.org
SUMMARY:Executive Committee Meeting
DESCRIPTION:Date:  Thursday\, April 13\, 2023 \nWhat:  Executive Committee Meeting \nAttachment:  https://j4ng.org/?post_type=tribe_events&p=5504&preview=true
URL:https://j4ng.org/event/executive-committee-meeting-7/
END:VEVENT
BEGIN:VEVENT
DTSTART;TZID=UTC:20230405T140000
DTEND;TZID=UTC:20230405T150000
DTSTAMP:20260420T223004
CREATED:20230330T164943Z
LAST-MODIFIED:20230330T165113Z
UID:5497-1680703200-1680706800@j4ng.org
SUMMARY:Budget & Finance Committee Meeting
DESCRIPTION:Date:  Wednesday\, April 5\, 2023\, 2:00 p.m. – 3:00 p.m. \nWhat:  Budget & Finance Committee Meeting \nAttachment:  http://”C:\Users\JIrvine\New Jobs for Nevada’s Graduates\, Inc\Jobs for Nevada’s Graduates\, Inc\ManagementTeam – General\BOARD OF DIRECTORS\BOARD COMMITTEES\Budget & Finance Committee\Agendas\Agenda 2023\Agenda Budget & Finance April 5\, 2023.pdf”
URL:https://j4ng.org/event/budget-finance-committee-meeting-6/
END:VEVENT
BEGIN:VEVENT
DTSTART;TZID=UTC:20230403T140000
DTEND;TZID=UTC:20230403T150000
DTSTAMP:20260420T223004
CREATED:20230330T163959Z
LAST-MODIFIED:20230330T164015Z
UID:5491-1680530400-1680534000@j4ng.org
SUMMARY:Human Resources Committee Meeting
DESCRIPTION:Date:  Monday\, April 3\, 2023\, 2:00 p.m. – 3:00 p.m. \nWhat:  Human Resources Committee Meeting \nAttachment:  http://”C:\Users\JIrvine\New Jobs for Nevada’s Graduates\, Inc\Jobs for Nevada’s Graduates\, Inc\ManagementTeam – General\BOARD OF DIRECTORS\BOARD COMMITTEES\Human Resources Committee\2023 HR Comm. Meetings\Agendas 2023\HR Committee Agenda April 3\, 2023.pdf”
URL:https://j4ng.org/event/human-resources-committee-meeting-2/
END:VEVENT
BEGIN:VEVENT
DTSTART;TZID=UTC:20230329T110000
DTEND;TZID=UTC:20230329T120000
DTSTAMP:20260420T223004
CREATED:20230329T111256Z
LAST-MODIFIED:20230327T155259Z
UID:5459-1680087600-1680091200@j4ng.org
SUMMARY:Nominating & Bylaws Committee Meeting
DESCRIPTION:Date:  Wednesday\, March 29\, 2023\, 11:00 a.m. – 12:00 p.m. \nWhat:  Nominating & Bylaws Committee Meeting \nAttachment: https://j4ng.org/wp-content/uploads/2023/03/Strategic-Planning-Comm.-Agenda-3.28.23.pdf
URL:https://j4ng.org/event/nominating-bylaws-committee-meeting-2/
CATEGORIES:Event
END:VEVENT
END:VCALENDAR