BEGIN:VCALENDAR
VERSION:2.0
PRODID:-//JAG Nevada - ECPv6.13.2.1//NONSGML v1.0//EN
CALSCALE:GREGORIAN
METHOD:PUBLISH
X-WR-CALNAME:JAG Nevada
X-ORIGINAL-URL:https://j4ng.org
X-WR-CALDESC:Events for JAG Nevada
REFRESH-INTERVAL;VALUE=DURATION:PT1H
X-Robots-Tag:noindex
X-PUBLISHED-TTL:PT1H
BEGIN:VTIMEZONE
TZID:UTC
BEGIN:STANDARD
TZOFFSETFROM:+0000
TZOFFSETTO:+0000
TZNAME:UTC
DTSTART:20250101T000000
END:STANDARD
END:VTIMEZONE
BEGIN:VEVENT
DTSTART;TZID=UTC:20251113T140000
DTEND;TZID=UTC:20251113T150000
DTSTAMP:20260425T133638
CREATED:20251103T200310Z
LAST-MODIFIED:20251103T200310Z
UID:9343-1763042400-1763046000@j4ng.org
SUMMARY:Budget & Finance Committee Meeting
DESCRIPTION:Title of Event:  Budget & Finance Committee Meeting \nDate/Time/Place:  November 13\, 2025\, 2:00 PM\, Microsoft TEAMS virtual meeting. \nAgenda Budget & Finance 11.13.2025
URL:https://j4ng.org/event/budget-finance-committee-meeting-11/
END:VEVENT
END:VCALENDAR