BEGIN:VCALENDAR
VERSION:2.0
PRODID:-//JAG Nevada - ECPv6.13.2.1//NONSGML v1.0//EN
CALSCALE:GREGORIAN
METHOD:PUBLISH
X-WR-CALNAME:JAG Nevada
X-ORIGINAL-URL:https://j4ng.org
X-WR-CALDESC:Events for JAG Nevada
REFRESH-INTERVAL;VALUE=DURATION:PT1H
X-Robots-Tag:noindex
X-PUBLISHED-TTL:PT1H
BEGIN:VTIMEZONE
TZID:UTC
BEGIN:STANDARD
TZOFFSETFROM:+0000
TZOFFSETTO:+0000
TZNAME:UTC
DTSTART:20250101T000000
END:STANDARD
END:VTIMEZONE
BEGIN:VEVENT
DTSTART;TZID=UTC:20251016T133000
DTEND;TZID=UTC:20251016T150000
DTSTAMP:20260424T105333
CREATED:20251009T153821Z
LAST-MODIFIED:20251009T153821Z
UID:9301-1760621400-1760626800@j4ng.org
SUMMARY:Nominating & Bylaws Committee Meeting
DESCRIPTION:Date/Day/Time:  Thursday\, October 16\, 2025\, 1:30 PM \nTitle:  Nominating & Bylaws Committee Meeting\, virtual TEAMS \nAgenda  Nominating & Bylaws Committee\2025\Agendas 2025\Nom & Bylaws Agenda 10.16.2025 NEW DATE.pdf”
URL:https://j4ng.org/event/nominating-bylaws-committee-meeting-7/
END:VEVENT
END:VCALENDAR