BEGIN:VCALENDAR
VERSION:2.0
PRODID:-//JAG Nevada - ECPv6.13.2.1//NONSGML v1.0//EN
CALSCALE:GREGORIAN
METHOD:PUBLISH
X-WR-CALNAME:JAG Nevada
X-ORIGINAL-URL:https://j4ng.org
X-WR-CALDESC:Events for JAG Nevada
REFRESH-INTERVAL;VALUE=DURATION:PT1H
X-Robots-Tag:noindex
X-PUBLISHED-TTL:PT1H
BEGIN:VTIMEZONE
TZID:UTC
BEGIN:STANDARD
TZOFFSETFROM:+0000
TZOFFSETTO:+0000
TZNAME:UTC
DTSTART:20250101T000000
END:STANDARD
END:VTIMEZONE
BEGIN:VEVENT
DTSTART;TZID=UTC:20251010T093000
DTEND;TZID=UTC:20251010T103000
DTSTAMP:20260425T160016
CREATED:20251006T201829Z
LAST-MODIFIED:20251006T201829Z
UID:9294-1760088600-1760092200@j4ng.org
SUMMARY:SPECIAL SESSION\, EXECUTIVE COMMITTEE
DESCRIPTION:Date/Time/Place:   Friday. October 10\, 2025\, 9:30 AM\, Virtual TEAMS meeting \nTitle of Event:  Special Session\, Executive Committee \nAttachment:  Agenda  https://j4ng.org/event/special-session-…cutive-committee/ \n 
URL:https://j4ng.org/event/special-session-executive-committee/
END:VEVENT
END:VCALENDAR