BEGIN:VCALENDAR
VERSION:2.0
PRODID:-//JAG Nevada - ECPv6.13.2.1//NONSGML v1.0//EN
CALSCALE:GREGORIAN
METHOD:PUBLISH
X-WR-CALNAME:JAG Nevada
X-ORIGINAL-URL:https://j4ng.org
X-WR-CALDESC:Events for JAG Nevada
REFRESH-INTERVAL;VALUE=DURATION:PT1H
X-Robots-Tag:noindex
X-PUBLISHED-TTL:PT1H
BEGIN:VTIMEZONE
TZID:UTC
BEGIN:STANDARD
TZOFFSETFROM:+0000
TZOFFSETTO:+0000
TZNAME:UTC
DTSTART:20250101T000000
END:STANDARD
END:VTIMEZONE
BEGIN:VEVENT
DTSTART;TZID=UTC:20250814T140000
DTEND;TZID=UTC:20250814T153000
DTSTAMP:20260423T203927
CREATED:20250623T204945Z
LAST-MODIFIED:20250623T205746Z
UID:9189-1755180000-1755185400@j4ng.org
SUMMARY:Executive Committee Meeting
DESCRIPTION:Date:  Thursday\, August 14\, 2025 \nTime:  2:00 PM \nPlace:  Virtual\, TEAMS Meeting \nTitle of Event:  Executive Committee Meeting
URL:https://j4ng.org/event/executive-committee-meeting-12/
END:VEVENT
END:VCALENDAR