BEGIN:VCALENDAR
VERSION:2.0
PRODID:-//JAG Nevada - ECPv6.13.2.1//NONSGML v1.0//EN
CALSCALE:GREGORIAN
METHOD:PUBLISH
X-ORIGINAL-URL:https://j4ng.org
X-WR-CALDESC:Events for JAG Nevada
REFRESH-INTERVAL;VALUE=DURATION:PT1H
X-Robots-Tag:noindex
X-PUBLISHED-TTL:PT1H
BEGIN:VTIMEZONE
TZID:UTC
BEGIN:STANDARD
TZOFFSETFROM:+0000
TZOFFSETTO:+0000
TZNAME:UTC
DTSTART:20250101T000000
END:STANDARD
END:VTIMEZONE
BEGIN:VEVENT
DTSTART;TZID=UTC:20250508T140000
DTEND;TZID=UTC:20250508T153000
DTSTAMP:20260421T024553
CREATED:20250505T211045Z
LAST-MODIFIED:20250505T211045Z
UID:7338-1746712800-1746718200@j4ng.org
SUMMARY:EXECUTIVE COMMITTEE MEETING
DESCRIPTION:Date/Time:  Thursday\, May 8\, 2025\, 2:00 – 3:30 PM \nTitle:  EXECUTIVE COMMITTEE MEETING – Virtual\, TEAMS Mtg. \nPreview:  https://j4ng.org/event/executive-committee-meeting-11/
URL:https://j4ng.org/event/executive-committee-meeting-11/
END:VEVENT
END:VCALENDAR