BEGIN:VCALENDAR
VERSION:2.0
PRODID:-//JAG Nevada - ECPv6.13.2.1//NONSGML v1.0//EN
CALSCALE:GREGORIAN
METHOD:PUBLISH
X-WR-CALNAME:JAG Nevada
X-ORIGINAL-URL:https://j4ng.org
X-WR-CALDESC:Events for JAG Nevada
REFRESH-INTERVAL;VALUE=DURATION:PT1H
X-Robots-Tag:noindex
X-PUBLISHED-TTL:PT1H
BEGIN:VTIMEZONE
TZID:UTC
BEGIN:STANDARD
TZOFFSETFROM:+0000
TZOFFSETTO:+0000
TZNAME:UTC
DTSTART:20250101T000000
END:STANDARD
END:VTIMEZONE
BEGIN:VEVENT
DTSTART;TZID=UTC:20250327T140000
DTEND;TZID=UTC:20250327T153000
DTSTAMP:20260420T202626
CREATED:20250313T155428Z
LAST-MODIFIED:20250313T155634Z
UID:6999-1743084000-1743089400@j4ng.org
SUMMARY:Special Meeting of the Executive Committee
DESCRIPTION:Date:  March 27\, 2025 \nTime:  2:00 – 3:30 PM \nPlace:  Microsoft TEAMS Virtual Meeting \nTitle:  Special Meeting of the Executive Committee \nAgenda – Special Meeting March 27\, 2025
URL:https://j4ng.org/event/special-meeting-of-the-executive-committee/
END:VEVENT
END:VCALENDAR